BEGIN:VCALENDAR
VERSION:2.0
PRODID:-//ChamberMaster//Event Calendar 2.0//EN
METHOD:PUBLISH
X-PUBLISHED-TTL:P3D
REFRESH-INTERVAL:P3D
CALSCALE:GREGORIAN
BEGIN:VEVENT
DTSTART:20200129T013000Z
DTEND:20200129T033000Z
X-MICROSOFT-CDO-ALLDAYEVENT:FALSE
SUMMARY:Executive Reception: January 28\, 2020
DESCRIPTION:Executive Receptions are elevated events offer an exclusive opportunity to network with other leaders in the San Francisco business community. Reserved for C-Level executives and top management\, our Executive Receptions are members-only\, invitation-only events.\n\n\n\nOur next Executive Reception will be on Tuesday\, January 28th at 5:30pm. Interested in attending?  Please email Shawn Linares at slinares@sfchamber.com.
X-ALT-DESC;FMTTYPE=text/html:Executive Receptions are elevated events offer an exclusive opportunity to network with other leaders in the San Francisco business community. Reserved for C-Level executives and top management\, our Executive Receptions are members-only\, invitation-only events.<br />\n<br />\nOur next Executive Reception will be on Tuesday\, January 28th at 5:30pm. Interested in attending?&nbsp\; Please email Shawn Linares at <a href="mailto:slinares@sfchamber.com">slinares@sfchamber.com</a>.&nbsp\;<br />\n<br />\n<br />\n<br />\n<br />\n<br />\n<br />\n&nbsp\;
LOCATION:
UID:e.2439.8834
SEQUENCE:3
DTSTAMP:20260425T151435Z
URL:http://sfcachamber.chambermaster.com/events/details/executive-reception-january-28-2020-8834
END:VEVENT

END:VCALENDAR
